BEGIN:VCALENDAR
VERSION:2.0
PRODID:-//ZooKeeper - ECPv6.15.14//NONSGML v1.0//EN
CALSCALE:GREGORIAN
METHOD:PUBLISH
X-WR-CALNAME:ZooKeeper
X-ORIGINAL-URL:https://lionfishzk.com
X-WR-CALDESC:Events for ZooKeeper
REFRESH-INTERVAL;VALUE=DURATION:PT1H
X-Robots-Tag:noindex
X-PUBLISHED-TTL:PT1H
BEGIN:VTIMEZONE
TZID:America/New_York
BEGIN:DAYLIGHT
TZOFFSETFROM:-0500
TZOFFSETTO:-0400
TZNAME:EDT
DTSTART:20240310T070000
END:DAYLIGHT
BEGIN:STANDARD
TZOFFSETFROM:-0400
TZOFFSETTO:-0500
TZNAME:EST
DTSTART:20241103T060000
END:STANDARD
BEGIN:DAYLIGHT
TZOFFSETFROM:-0500
TZOFFSETTO:-0400
TZNAME:EDT
DTSTART:20250309T070000
END:DAYLIGHT
BEGIN:STANDARD
TZOFFSETFROM:-0400
TZOFFSETTO:-0500
TZNAME:EST
DTSTART:20251102T060000
END:STANDARD
BEGIN:DAYLIGHT
TZOFFSETFROM:-0500
TZOFFSETTO:-0400
TZNAME:EDT
DTSTART:20260308T070000
END:DAYLIGHT
BEGIN:STANDARD
TZOFFSETFROM:-0400
TZOFFSETTO:-0500
TZNAME:EST
DTSTART:20261101T060000
END:STANDARD
END:VTIMEZONE
BEGIN:VEVENT
DTSTART;VALUE=DATE:20251001
DTEND;VALUE=DATE:20251002
DTSTAMP:20260423T061137
CREATED:20250724T210528Z
LAST-MODIFIED:20250916T184936Z
UID:31215-1759276800-1759363199@lionfishzk.com
SUMMARY:ZooKeeper's 2025 Winter Lionfish Throw Down - Kickoff
DESCRIPTION:
URL:https://lionfishzk.com/event/zookeepers-2025-winter-lionfish-throw-down-kickoff/
LOCATION:Atlantic & Gulf of America Waters\, All gulf & Atlantic States\, PR & USVI
CATEGORIES:Derby,Dive,Educational,Event,Reef Clean Up
ATTACH;FMTTYPE=image/png:https://lionfishzk.com/wp-content/uploads/2025/07/2025-Winter-Lionfish-Throw-Down.ZooKeeper.png
ORGANIZER;CN="ZooKeeper":MAILTO:info@lionfishzk.com
END:VEVENT
BEGIN:VEVENT
DTSTART;VALUE=DATE:20251024
DTEND;VALUE=DATE:20251027
DTSTAMP:20260423T061137
CREATED:20250906T193503Z
LAST-MODIFIED:20250929T172835Z
UID:31661-1761264000-1761523199@lionfishzk.com
SUMMARY:Emerald Coast Reef Assoc’s 2nd Annual Haunted Harvest
DESCRIPTION:Time & Location\n\n\nOct 24\, 2025\, 6:00 AM CDT – Oct 26\, 2025\, 3:00 PM CDT \nThe Harbor Tavern\, 306 Harbor Blvd\, Destin\, FL 32541\, USA \n\n\n\n\n\n\nAbout the event\n\n\n\n\n\n\n\n\nJoin ECRA’s 2nd Annual Haunted Harvest to benefit our reef building fund! Categories include (but may not be limited to) largest spiny lobster\, largest slipper lobster\, largest lionfish and largest red snapper (separate category for spearfishing and rod and reel). Awards go to the top 3 largest in all categories. All lobster must be taken by hand. \nRegister by Oct 1 to guarantee a tournament shirt \nHunting/Fishing: Sunrise to sunset Oct 24 & 25 \nWeigh-in: 11am Oct 26  \nAwards & Social: 12pm – 3pm Oct 26  \nQuestions? Call or text Rick (850-502-6732) or Savanna (850-225-2382) \n\n\n\n  \n\n\n\n\n\n\nMembership Offer\nBuy a membership and get 20% off this event at checkout\n\n\n\n\n\n\nTickets\n\n\n\n\n\n\n\nTournament Registration\n\n\n\nSale ends \nOct 23\, 6:00 PM CDT \n\n\n\n\n\nPrice $125.00+$3.13 ticket service fee
URL:https://lionfishzk.com/event/emerald-coast-reef-assocs-2nd-annual-haunted-harvest/
LOCATION:FL
CATEGORIES:Derby,Dive,Educational,Event
ATTACH;FMTTYPE=image/png:https://lionfishzk.com/wp-content/uploads/2025/09/ECRA-Haunted-Harvest.png
ORGANIZER;CN="Emerald Coast Reef Association":MAILTO:ecrabod@gmail.com
END:VEVENT
BEGIN:VEVENT
DTSTART;VALUE=DATE:20251025
DTEND;VALUE=DATE:20251026
DTSTAMP:20260423T061137
CREATED:20250907T171550Z
LAST-MODIFIED:20250907T171550Z
UID:31669-1761350400-1761436799@lionfishzk.com
SUMMARY:Dive Pros 36th Annual Pumpkin Carving Contest
DESCRIPTION:What?: The Greatest Underwater Pumpkin Carving Contest of all time. \nWho?: You\, your favorite Dive Buddy & a sacrificial Pumpkin! \nWhen?:  Saturday\, the 25th of October 2025.\n•    Registration & Safety checks begin at 12:00 noon.\n•    Carving begins at 1:00 pm with a one-hour time limit.\n•    BBQ\, Costume Party\, Awards & Raffle begin at 6:00 p.m. \nWhere?: Park West & Dive Pros in Pensacola\n• Carving at Park West on Pensacola Beach\, FL (1340 Fort Pickens Road\, Pensacola Beach\, FL 32561)\n• BBQ\, Costume Party\, Awards & Raffle at the Dive Pros (7203 Hwy 98 West\, Pensacola\, FL 32506) \nWhy?: To have lots of FUN and support: Favor House of Northwest Florida. \nHow Much?: $50.00 per team (entitles you to twenty raffle tickets). Additional raffle tickets can be purchased for $1.00 each. Individuals not entered into the Pumpkin Carving Contest who desire to purchase raffle tickets may do so for $1.00 per ticket. \nThe Rules of Play:\n• 2 carvers per team always.\n• Kids must be directly supervised by an adult at all times.\n• No cuts\, holes\, or punctures prior to the official start signal. Drawing designs in advance is acceptable.\n• Underwater carvers must do all work while underwater. No beach touch-ups after exiting.\n• One-hour time limit.\n• Divers must pass a pre-dive safety inspection.\n• You must be present at judging to win. \nThis year’s categories are: Creatures of the Deep – Most Creative – Best Carving
URL:https://lionfishzk.com/event/dive-pros-36th-annual-pumpkin-carving-contest/
LOCATION:Dive Pros\, 7203 W Highway 98\, Pensacola\, United States
CATEGORIES:Dive,Event
ATTACH;FMTTYPE=image/png:https://lionfishzk.com/wp-content/uploads/2024/07/Dive-Pros-Scuba-Dive-ZooKeeper-Lionfish-Hunt.png
END:VEVENT
BEGIN:VEVENT
DTSTART;VALUE=DATE:20251025
DTEND;VALUE=DATE:20251026
DTSTAMP:20260423T061137
CREATED:20250907T172208Z
LAST-MODIFIED:20250907T172208Z
UID:31672-1761350400-1761436799@lionfishzk.com
SUMMARY:2025 Curaçao Lionfish Derby
DESCRIPTION:Curaçao Lionfish Derby – October 25\nJoin us for another exciting Lionfish Derby on Saturday\, October 25 2025!\nThis year bigger than ever with also an Ocean & Conservation Market. So join and show us you are the best hunter of Curacao and invite your family and friends to come and see you receiving the first prize! \nDiver Information\n\n\n8:30 a.m.: Arrive at Lionfish Caribbean @ Kura Hulanda with all your gear\, tanks\, hunting equipment\, cooler\, etc. \n\n\n8:35 a.m.: Welcome and briefing \n\n\n9:00 a.m.: Divers leave. Participants are allowed to dive all over the island (2 dives) \n\n\n4:00 p.m.: All fish must be brought in \n\n\n5:00 p.m.: Ceremony\, prizes\, and raffle drawing \n\n\n6:00 p.m.: Lionfish\, Beers and Live music \n\n\nAll night: Happy Hour!!! \n\n\n\n\n\n\n\n\n\n\n\n\n\nGame rules:\n\n\n\n\n\n\n\n\n\n\n\n\n\n2 tanks per diver \n\n\nDive all over the island \n\n\nNo boats \n\n\nNo solo diving \n\n\nDive within certification level \n\n\nWinner takes it all – the organization buys your catch for ang12.50 per kg\, the total amount of all hunters will go to the winner \n\n\n90% of total catch is the prize for most KG Lionfish \n\n\n10% of total catch is the prize for most Debris \n\n\n\n\n\n\n\n\n\nClick here to sign up!\n\n\n\n\n\n\n\nParticipation Fee:\n\n\nANG 70 / $40 per person (Payment to be done minimum 3 days before the Derby\, by bank transfer\, or in the store) \n\n\nYour Fee Includes:\n\n\nGoodie bag (with drink\, snack\, gadgets\, presents\, raffle tickets\, and more) \n\n\nBags of ice \n\n\nHappy Hour drinks \n\n\nDinner
URL:https://lionfishzk.com/event/2025-curacao-lionfish-derby/
LOCATION:Lionfish Caribbean\, 23 IJerstraat\, Willemstad\, Curaçao
ATTACH;FMTTYPE=image/png:https://lionfishzk.com/wp-content/uploads/2024/07/Lionfish-Caribbean-Scuba-Dive-ZooKeeper-Lionfish-Hunt.png
ORGANIZER;CN="Lionfish Caribbean":MAILTO:contact@lionfishcaribbean.com
END:VEVENT
END:VCALENDAR