BEGIN:VCALENDAR
VERSION:2.0
PRODID:-//ZooKeeper - ECPv6.15.14//NONSGML v1.0//EN
CALSCALE:GREGORIAN
METHOD:PUBLISH
X-ORIGINAL-URL:https://lionfishzk.com
X-WR-CALDESC:Events for ZooKeeper
REFRESH-INTERVAL;VALUE=DURATION:PT1H
X-Robots-Tag:noindex
X-PUBLISHED-TTL:PT1H
BEGIN:VTIMEZONE
TZID:America/New_York
BEGIN:DAYLIGHT
TZOFFSETFROM:-0500
TZOFFSETTO:-0400
TZNAME:EDT
DTSTART:20250309T070000
END:DAYLIGHT
BEGIN:STANDARD
TZOFFSETFROM:-0400
TZOFFSETTO:-0500
TZNAME:EST
DTSTART:20251102T060000
END:STANDARD
BEGIN:DAYLIGHT
TZOFFSETFROM:-0500
TZOFFSETTO:-0400
TZNAME:EDT
DTSTART:20260308T070000
END:DAYLIGHT
BEGIN:STANDARD
TZOFFSETFROM:-0400
TZOFFSETTO:-0500
TZNAME:EST
DTSTART:20261101T060000
END:STANDARD
BEGIN:DAYLIGHT
TZOFFSETFROM:-0500
TZOFFSETTO:-0400
TZNAME:EDT
DTSTART:20270314T070000
END:DAYLIGHT
BEGIN:STANDARD
TZOFFSETFROM:-0400
TZOFFSETTO:-0500
TZNAME:EST
DTSTART:20271107T060000
END:STANDARD
END:VTIMEZONE
BEGIN:VEVENT
DTSTART;VALUE=DATE:20260514
DTEND;VALUE=DATE:20260515
DTSTAMP:20260424T054611
CREATED:20260105T230421Z
LAST-MODIFIED:20260112T210605Z
UID:32401-1778716800-1778803199@lionfishzk.com
SUMMARY:Emerald Coast Open 2026 - Pre Tournament Ends
DESCRIPTION:This is the last day to turn in lionfish for 2 for 1 raffle entries. \nRules & Learn More
URL:https://lionfishzk.com/event/emerald-coast-open-2026-pre-tournament-ends/
LOCATION:Atlantic & Gulf of America Waters\, All gulf & Atlantic States\, PR & USVI
CATEGORIES:Dive,Event
ATTACH;FMTTYPE=image/png:https://lionfishzk.com/wp-content/uploads/2024/09/Emerald-Coast-Open-Logo-ZooKeeper.png
ORGANIZER;CN="Emerald Coast Open":MAILTO:info@emeraldcoastopen.com
END:VEVENT
END:VCALENDAR