BEGIN:VCALENDAR
VERSION:2.0
PRODID:-//ZooKeeper - ECPv6.15.14//NONSGML v1.0//EN
CALSCALE:GREGORIAN
METHOD:PUBLISH
X-WR-CALNAME:ZooKeeper
X-ORIGINAL-URL:https://lionfishzk.com
X-WR-CALDESC:Events for ZooKeeper
REFRESH-INTERVAL;VALUE=DURATION:PT1H
X-Robots-Tag:noindex
X-PUBLISHED-TTL:PT1H
BEGIN:VTIMEZONE
TZID:America/New_York
BEGIN:DAYLIGHT
TZOFFSETFROM:-0500
TZOFFSETTO:-0400
TZNAME:EDT
DTSTART:20240310T070000
END:DAYLIGHT
BEGIN:STANDARD
TZOFFSETFROM:-0400
TZOFFSETTO:-0500
TZNAME:EST
DTSTART:20241103T060000
END:STANDARD
BEGIN:DAYLIGHT
TZOFFSETFROM:-0500
TZOFFSETTO:-0400
TZNAME:EDT
DTSTART:20250309T070000
END:DAYLIGHT
BEGIN:STANDARD
TZOFFSETFROM:-0400
TZOFFSETTO:-0500
TZNAME:EST
DTSTART:20251102T060000
END:STANDARD
BEGIN:DAYLIGHT
TZOFFSETFROM:-0500
TZOFFSETTO:-0400
TZNAME:EDT
DTSTART:20260308T070000
END:DAYLIGHT
BEGIN:STANDARD
TZOFFSETFROM:-0400
TZOFFSETTO:-0500
TZNAME:EST
DTSTART:20261101T060000
END:STANDARD
END:VTIMEZONE
BEGIN:VEVENT
DTSTART;VALUE=DATE:20251024
DTEND;VALUE=DATE:20251027
DTSTAMP:20260421T072110
CREATED:20250906T193503Z
LAST-MODIFIED:20250929T172835Z
UID:31661-1761264000-1761523199@lionfishzk.com
SUMMARY:Emerald Coast Reef Assoc’s 2nd Annual Haunted Harvest
DESCRIPTION:Time & Location\n\n\nOct 24\, 2025\, 6:00 AM CDT – Oct 26\, 2025\, 3:00 PM CDT \nThe Harbor Tavern\, 306 Harbor Blvd\, Destin\, FL 32541\, USA \n\n\n\n\n\n\nAbout the event\n\n\n\n\n\n\n\n\nJoin ECRA’s 2nd Annual Haunted Harvest to benefit our reef building fund! Categories include (but may not be limited to) largest spiny lobster\, largest slipper lobster\, largest lionfish and largest red snapper (separate category for spearfishing and rod and reel). Awards go to the top 3 largest in all categories. All lobster must be taken by hand. \nRegister by Oct 1 to guarantee a tournament shirt \nHunting/Fishing: Sunrise to sunset Oct 24 & 25 \nWeigh-in: 11am Oct 26  \nAwards & Social: 12pm – 3pm Oct 26  \nQuestions? Call or text Rick (850-502-6732) or Savanna (850-225-2382) \n\n\n\n  \n\n\n\n\n\n\nMembership Offer\nBuy a membership and get 20% off this event at checkout\n\n\n\n\n\n\nTickets\n\n\n\n\n\n\n\nTournament Registration\n\n\n\nSale ends \nOct 23\, 6:00 PM CDT \n\n\n\n\n\nPrice $125.00+$3.13 ticket service fee
URL:https://lionfishzk.com/event/emerald-coast-reef-assocs-2nd-annual-haunted-harvest/
LOCATION:FL
CATEGORIES:Derby,Dive,Educational,Event
ATTACH;FMTTYPE=image/png:https://lionfishzk.com/wp-content/uploads/2025/09/ECRA-Haunted-Harvest.png
ORGANIZER;CN="Emerald Coast Reef Association":MAILTO:ecrabod@gmail.com
END:VEVENT
END:VCALENDAR